BEGIN:VCALENDAR
VERSION:2.0
PRODID:-//YC Medien und Bildung gGmbH - ECPv6.15.20//NONSGML v1.0//EN
CALSCALE:GREGORIAN
METHOD:PUBLISH
X-WR-CALNAME:YC Medien und Bildung gGmbH
X-ORIGINAL-URL:https://yc-mb.de
X-WR-CALDESC:Veranstaltungen für YC Medien und Bildung gGmbH
REFRESH-INTERVAL;VALUE=DURATION:PT1H
X-Robots-Tag:noindex
X-PUBLISHED-TTL:PT1H
BEGIN:VTIMEZONE
TZID:Europe/Berlin
BEGIN:DAYLIGHT
TZOFFSETFROM:+0100
TZOFFSETTO:+0200
TZNAME:CEST
DTSTART:20250330T010000
END:DAYLIGHT
BEGIN:STANDARD
TZOFFSETFROM:+0200
TZOFFSETTO:+0100
TZNAME:CET
DTSTART:20251026T010000
END:STANDARD
BEGIN:DAYLIGHT
TZOFFSETFROM:+0100
TZOFFSETTO:+0200
TZNAME:CEST
DTSTART:20260329T010000
END:DAYLIGHT
BEGIN:STANDARD
TZOFFSETFROM:+0200
TZOFFSETTO:+0100
TZNAME:CET
DTSTART:20261025T010000
END:STANDARD
BEGIN:DAYLIGHT
TZOFFSETFROM:+0100
TZOFFSETTO:+0200
TZNAME:CEST
DTSTART:20270328T010000
END:DAYLIGHT
BEGIN:STANDARD
TZOFFSETFROM:+0200
TZOFFSETTO:+0100
TZNAME:CET
DTSTART:20271031T010000
END:STANDARD
END:VTIMEZONE
BEGIN:VEVENT
DTSTART;TZID=Europe/Berlin:20260624T080000
DTEND;TZID=Europe/Berlin:20260624T140000
DTSTAMP:20260421T121100
CREATED:20260318T110058Z
LAST-MODIFIED:20260318T110058Z
UID:4872-1782288000-1782309600@yc-mb.de
SUMMARY:MädchenAkademie Workshop
DESCRIPTION:Robotik\, Programmierung\, Künstliche Intelligenz und 3D-Modelling für Mädchen von Klassenstufe 4 bis 6 im Maker-Space-Format. Entdecken. Ausprobieren. Staunen. \nGefördert von:
URL:https://yc-mb.de/event/maedchenakademie-workshop_26_15
LOCATION:Gymnasium Dresden-Johannstadt
CATEGORIES:Die Mädchenakademie,Orientierungsworkshop
ATTACH;FMTTYPE=image/webp:https://yc-mb.de/wp-content/uploads/2026/02/Figurencollage_2026-scaled.webp
ORGANIZER;CN="YC Medien und Bildung gGmbH":MAILTO:digitale.schule@yc-mb.de
END:VEVENT
END:VCALENDAR